BEGIN:VCALENDAR
VERSION:2.0
PRODID:-//Scouts et Guides de France de Savigny-sur-Orge - ECPv6.8.1//NONSGML v1.0//EN
CALSCALE:GREGORIAN
METHOD:PUBLISH
X-WR-CALNAME:Scouts et Guides de France de Savigny-sur-Orge
X-ORIGINAL-URL:https://www.sgdf-savigny.fr
X-WR-CALDESC:Évènements pour Scouts et Guides de France de Savigny-sur-Orge
REFRESH-INTERVAL;VALUE=DURATION:PT1H
X-Robots-Tag:noindex
X-PUBLISHED-TTL:PT1H
BEGIN:VTIMEZONE
TZID:Europe/Paris
BEGIN:DAYLIGHT
TZOFFSETFROM:+0100
TZOFFSETTO:+0200
TZNAME:CEST
DTSTART:20230326T010000
END:DAYLIGHT
BEGIN:STANDARD
TZOFFSETFROM:+0200
TZOFFSETTO:+0100
TZNAME:CET
DTSTART:20231029T010000
END:STANDARD
END:VTIMEZONE
BEGIN:VEVENT
DTSTART;TZID=Europe/Paris:20230801T080000
DTEND;TZID=Europe/Paris:20230816T170000
DTSTAMP:20260422T103034
CREATED:20230207T180645Z
LAST-MODIFIED:20230207T180645Z
UID:1461-1690876800-1692205200@www.sgdf-savigny.fr
SUMMARY:Camp d'été Azules
DESCRIPTION:
URL:https://www.sgdf-savigny.fr/event/camp-dete-azules-2/
CATEGORIES:Tribu Azules
END:VEVENT
END:VCALENDAR