BEGIN:VCALENDAR
VERSION:2.0
PRODID:-//Scouts et Guides de France de Savigny-sur-Orge - ECPv6.8.1//NONSGML v1.0//EN
CALSCALE:GREGORIAN
METHOD:PUBLISH
X-WR-CALNAME:Scouts et Guides de France de Savigny-sur-Orge
X-ORIGINAL-URL:https://www.sgdf-savigny.fr
X-WR-CALDESC:Évènements pour Scouts et Guides de France de Savigny-sur-Orge
REFRESH-INTERVAL;VALUE=DURATION:PT1H
X-Robots-Tag:noindex
X-PUBLISHED-TTL:PT1H
BEGIN:VTIMEZONE
TZID:Europe/Paris
BEGIN:DAYLIGHT
TZOFFSETFROM:+0100
TZOFFSETTO:+0200
TZNAME:CEST
DTSTART:20230326T010000
END:DAYLIGHT
BEGIN:STANDARD
TZOFFSETFROM:+0200
TZOFFSETTO:+0100
TZNAME:CET
DTSTART:20231029T010000
END:STANDARD
END:VTIMEZONE
BEGIN:VEVENT
DTSTART;TZID=Europe/Paris:20230519T100000
DTEND;TZID=Europe/Paris:20230521T170000
DTSTAMP:20260422T163609
CREATED:20230130T212205Z
LAST-MODIFIED:20230130T212205Z
UID:1457-1684490400-1684688400@www.sgdf-savigny.fr
SUMMARY:Week-end Communauté
DESCRIPTION:
URL:https://www.sgdf-savigny.fr/event/week-end-communaute/
CATEGORIES:Tribu Azules
END:VEVENT
END:VCALENDAR